BEGIN:VCALENDAR
VERSION:2.0
PRODID:-//eventon.com NONSGML v1.0//EN
CALSCALE:GREGORIAN
METHOD:PUBLISH
BEGIN:VEVENT
UID:69e5319430bc1
DTSTAMP:20260419T194836Z
DTSTART:19691231T230000Z
DTEND:19691231T230000Z
LOCATION:
SUMMARY:CAC/CACIB Ginevra
DESCRIPTION:www.chiens-expo.ch\nhttps://dackel.ch/it/events/cac-cacib-ginev
 ra-2/
URL:https://dackel.ch/it/events/cac-cacib-ginevra-2/
END:VEVENT
END:VCALENDAR