BEGIN:VCALENDAR
VERSION:2.0
PRODID:-//eventon.com NONSGML v1.0//EN
CALSCALE:GREGORIAN
METHOD:PUBLISH
BEGIN:VEVENT
UID:69e900963714d
DTSTAMP:20260422T170838Z
DTSTART:19691231T230000Z
DTEND:19691231T230000Z
LOCATION:
SUMMARY:CAC SDC Club Show (Valutazione vincitore annuale)
DESCRIPTION:Luogo: 5737 Menziken www.onlinedogshows.eu &nbsp;\nhttps://dack
 el.ch/it/events/cac-sdc-club-show-valutazione-vincitore-annuale/
URL:https://dackel.ch/it/events/cac-sdc-club-show-valutazione-vincitore-annuale/
END:VEVENT
END:VCALENDAR