BEGIN:VCALENDAR
VERSION:2.0
PRODID:-//eventon.com NONSGML v1.0//EN
CALSCALE:GREGORIAN
METHOD:PUBLISH
BEGIN:VEVENT
UID:69e9116b9bd7f
DTSTAMP:20260422T182027Z
DTSTART:19691231T230000Z
DTEND:19691231T230000Z
LOCATION:
SUMMARY:IHA CAC/CACIB Lucerna
DESCRIPTION:www.onlinedogshows.eu\nhttps://dackel.ch/it/events/iha-cac-caci
 b-lucerna/
URL:https://dackel.ch/it/events/iha-cac-cacib-lucerna/
END:VEVENT
END:VCALENDAR