BEGIN:VCALENDAR
VERSION:2.0
PRODID:-//eventon.com NONSGML v1.0//EN
CALSCALE:GREGORIAN
METHOD:PUBLISH
BEGIN:VEVENT
UID:69e8d1e1880f5
DTSTAMP:20260422T134921Z
DTSTART:19691231T230000Z
DTEND:19691231T230000Z
LOCATION:
SUMMARY:IHA Ginevra CAC/CACIB
DESCRIPTION:www.onlinedogshows.eu\nhttps://dackel.ch/it/events/iha-ginevra-
 cac-cacib-2/
URL:https://dackel.ch/it/events/iha-ginevra-cac-cacib-2/
END:VEVENT
END:VCALENDAR