BEGIN:VCALENDAR
VERSION:2.0
PRODID:-//eventon.com NONSGML v1.0//EN
CALSCALE:GREGORIAN
METHOD:PUBLISH
BEGIN:VEVENT
UID:69ec9c8d23333
DTSTAMP:20260425T105053Z
DTSTART:19691231T230000Z
DTEND:19691231T230000Z
LOCATION:
SUMMARY:Prova di seguita su traccia di lepre
DESCRIPTION:Luogo: Kerzers Info/Iscrizione: nicole.kubli@dackel.ch\nhttps:/
 /dackel.ch/it/events/prova-di-seguita-su-traccia-di-lepre-6/
URL:https://dackel.ch/it/events/prova-di-seguita-su-traccia-di-lepre-6/
END:VEVENT
END:VCALENDAR