BEGIN:VCALENDAR
VERSION:2.0
PRODID:-//eventon.com NONSGML v1.0//EN
CALSCALE:GREGORIAN
METHOD:PUBLISH
BEGIN:VEVENT
UID:69e73c845fca7
DTSTAMP:20260421T085948Z
DTSTART:19691231T230000Z
DTEND:19691231T230000Z
LOCATION:
SUMMARY:Prova polivalente senza segnalazione sulla traccia\,  con ricerca nel bosco
DESCRIPTION:Luogo: Zetzwil Info/Iscrizione: Andi Stauber\nhttps://dackel.ch
 /it/events/prova-polivalente-senza-segnalazione-sulla-traccia-con-ricerca-n
 el-bosco/
URL:https://dackel.ch/it/events/prova-polivalente-senza-segnalazione-sulla-traccia-con-ricerca-nel-bosco/
END:VEVENT
END:VCALENDAR