BEGIN:VCALENDAR
VERSION:2.0
PRODID:-//eventon.com NONSGML v1.0//EN
CALSCALE:GREGORIAN
METHOD:PUBLISH
BEGIN:VEVENT
UID:69e7ae0ad8fdc
DTSTAMP:20260421T170410Z
DTSTART:19691231T230000Z
DTEND:19691231T230000Z
LOCATION:
SUMMARY:CAC SDC Clubschau (Valutazione vincitore regionale)
DESCRIPTION:Luogo: da definire\,  Data: 5 settembre 2026 www.onlinedogshows
 .eu\nhttps://dackel.ch/it/events/cac-sdc-clubschau-valutazione-vincitore-re
 gionale/
URL:https://dackel.ch/it/events/cac-sdc-clubschau-valutazione-vincitore-regionale/
END:VEVENT
END:VCALENDAR