BEGIN:VCALENDAR
VERSION:2.0
PRODID:-//eventon.com NONSGML v1.0//EN
CALSCALE:GREGORIAN
METHOD:PUBLISH
BEGIN:VEVENT
UID:69e7e3468c5fe
DTSTAMP:20260421T205118Z
DTSTART:20260203T155200Z
DTEND:20260203T155200Z
LOCATION:
SUMMARY:IHA Ginevra CAC/CACIB
DESCRIPTION:www.onlinedogshows.eu\nhttps://dackel.ch/it/events/iha-ginevra-
 cac-cacib-3/
URL:https://dackel.ch/it/events/iha-ginevra-cac-cacib-3/
END:VEVENT
END:VCALENDAR